BEGIN:VCALENDAR
VERSION:2.0
PRODID:-//Active Rehabilitation Equipment - ECPv6.15.20//NONSGML v1.0//EN
CALSCALE:GREGORIAN
METHOD:PUBLISH
X-ORIGINAL-URL:https://activerehab.net.au
X-WR-CALDESC:Events for Active Rehabilitation Equipment
REFRESH-INTERVAL;VALUE=DURATION:PT1H
X-Robots-Tag:noindex
X-PUBLISHED-TTL:PT1H
BEGIN:VTIMEZONE
TZID:Australia/Melbourne
BEGIN:STANDARD
TZOFFSETFROM:+1100
TZOFFSETTO:+1000
TZNAME:AEST
DTSTART:20240406T160000
END:STANDARD
BEGIN:DAYLIGHT
TZOFFSETFROM:+1000
TZOFFSETTO:+1100
TZNAME:AEDT
DTSTART:20241005T160000
END:DAYLIGHT
BEGIN:STANDARD
TZOFFSETFROM:+1100
TZOFFSETTO:+1000
TZNAME:AEST
DTSTART:20250405T160000
END:STANDARD
BEGIN:DAYLIGHT
TZOFFSETFROM:+1000
TZOFFSETTO:+1100
TZNAME:AEDT
DTSTART:20251004T160000
END:DAYLIGHT
BEGIN:STANDARD
TZOFFSETFROM:+1100
TZOFFSETTO:+1000
TZNAME:AEST
DTSTART:20260404T160000
END:STANDARD
BEGIN:DAYLIGHT
TZOFFSETFROM:+1000
TZOFFSETTO:+1100
TZNAME:AEDT
DTSTART:20261003T160000
END:DAYLIGHT
END:VTIMEZONE
BEGIN:VEVENT
DTSTART;TZID=Australia/Melbourne:20250618T093000
DTEND;TZID=Australia/Melbourne:20250618T113000
DTSTAMP:20260420T202746
CREATED:20250602T044951Z
LAST-MODIFIED:20260204T113157Z
UID:10000002-1750239000-1750246200@activerehab.net.au
SUMMARY:Pressure Care: Instore Workshop
DESCRIPTION:Active Rehab – Tullamarine OT CPD Session\nEnhancing Pressure Care Knowledge & Product Understanding \nJoin us for an in-person CPD session designed for occupational therapists\, hosted by Active Rehab – Tullamarine and presented by Denver Scott. This session will deepen your understanding of pressure care and support surfaces\, equipping you with the knowledge to make informed product recommendations in your practice. \nWhat to Expect:\n\nSupport Surface Selection – How to choose the right mattress for different clinical needs.\nForté Product Insights – Key features\, applications\, and clinical considerations.\nInteractive Q&A with Denver Scott – Real-world case discussions and expert guidance.\n\nThese CPD sessions are a great way to stay up to date with best practices in pressure care while gaining hands-on product insights. \n🎟️ Secure Your Spot! \nRegister Here
URL:https://activerehab.net.au/event/pressure-care-instore-workshop/
LOCATION:Active Rehab – Tullamarine\, 2 Silicon Place\, Tullamarine\, VIC\, 3043\, Australia
ATTACH;FMTTYPE=image/png:https://activerehab.net.au/wp-content/uploads/2025/06/Active-Rehab-Tullamarine-OT-CPD.png
ORGANIZER;CN="Renee Pilcher":MAILTO:renee@activerehab.net.au
END:VEVENT
END:VCALENDAR